BEGIN:VCALENDAR
VERSION:2.0
PRODID:-//OWK Groß-Umstadt - ECPv6.15.17.1//NONSGML v1.0//EN
CALSCALE:GREGORIAN
METHOD:PUBLISH
X-WR-CALNAME:OWK Groß-Umstadt
X-ORIGINAL-URL:https://www.owk-umstadt.de
X-WR-CALDESC:Veranstaltungen für OWK Groß-Umstadt
REFRESH-INTERVAL;VALUE=DURATION:PT1H
X-Robots-Tag:noindex
X-PUBLISHED-TTL:PT1H
BEGIN:VTIMEZONE
TZID:Europe/Berlin
BEGIN:DAYLIGHT
TZOFFSETFROM:+0100
TZOFFSETTO:+0200
TZNAME:CEST
DTSTART:20250330T010000
END:DAYLIGHT
BEGIN:STANDARD
TZOFFSETFROM:+0200
TZOFFSETTO:+0100
TZNAME:CET
DTSTART:20251026T010000
END:STANDARD
BEGIN:DAYLIGHT
TZOFFSETFROM:+0100
TZOFFSETTO:+0200
TZNAME:CEST
DTSTART:20260329T010000
END:DAYLIGHT
BEGIN:STANDARD
TZOFFSETFROM:+0200
TZOFFSETTO:+0100
TZNAME:CET
DTSTART:20261025T010000
END:STANDARD
BEGIN:DAYLIGHT
TZOFFSETFROM:+0100
TZOFFSETTO:+0200
TZNAME:CEST
DTSTART:20270328T010000
END:DAYLIGHT
BEGIN:STANDARD
TZOFFSETFROM:+0200
TZOFFSETTO:+0100
TZNAME:CET
DTSTART:20271031T010000
END:STANDARD
END:VTIMEZONE
BEGIN:VEVENT
DTSTART;TZID=Europe/Berlin:20261101T130000
DTEND;TZID=Europe/Berlin:20261101T200000
DTSTAMP:20260422T124357
CREATED:20251223T211024Z
LAST-MODIFIED:20251223T211233Z
UID:6720-1793538000-1793563200@www.owk-umstadt.de
SUMMARY:Herbstwanderung
DESCRIPTION:
URL:https://www.owk-umstadt.de/event/herbstwanderung/
LOCATION:Treffpunkt wird noch bekannt gegeben
CATEGORIES:Halbtageswanderung
END:VEVENT
BEGIN:VEVENT
DTSTART;TZID=Europe/Berlin:20261106T190000
DTEND;TZID=Europe/Berlin:20261106T220000
DTSTAMP:20260422T124357
CREATED:20251201T204748Z
LAST-MODIFIED:20251201T204748Z
UID:6653-1793991600-1794002400@www.owk-umstadt.de
SUMMARY:Helfer*innenessen im Vereinsheim
DESCRIPTION:
URL:https://www.owk-umstadt.de/event/helferinnenessen-im-vereinsheim-3/
LOCATION:OWK Vereinsheim Gruberhof\, Raibacher Tal 22\, Groß-Umstadt\, Hessen\, 64823\, Deutschland
CATEGORIES:Veranstaltung
ORGANIZER;CN="Vorstand":MAILTO:vorstand@owk-umstadt.de
END:VEVENT
BEGIN:VEVENT
DTSTART;TZID=Europe/Berlin:20261108T110000
DTEND;TZID=Europe/Berlin:20261108T150000
DTSTAMP:20260422T124357
CREATED:20251201T204748Z
LAST-MODIFIED:20251201T204748Z
UID:6654-1794135600-1794150000@www.owk-umstadt.de
SUMMARY:Kerbfrühschoppen im Vereinsheim
DESCRIPTION:
URL:https://www.owk-umstadt.de/event/kerbfruehschoppen-im-vereinsheim-5/
LOCATION:OWK Vereinsheim Gruberhof\, Raibacher Tal 22\, Groß-Umstadt\, Hessen\, 64823\, Deutschland
CATEGORIES:Veranstaltung
ORGANIZER;CN="Vorstand":MAILTO:vorstand@owk-umstadt.de
END:VEVENT
BEGIN:VEVENT
DTSTART;VALUE=DATE:20261111
DTEND;VALUE=DATE:20261112
DTSTAMP:20260422T124357
CREATED:20251201T204140Z
LAST-MODIFIED:20251201T204140Z
UID:6613-1794355200-1794441599@www.owk-umstadt.de
SUMMARY:Seniorenwanderung
DESCRIPTION:
URL:https://www.owk-umstadt.de/event/seniorenwanderung-37/
CATEGORIES:Senioren
END:VEVENT
BEGIN:VEVENT
DTSTART;VALUE=DATE:20261114
DTEND;VALUE=DATE:20261115
DTSTAMP:20260422T124357
CREATED:20251201T204749Z
LAST-MODIFIED:20251201T204749Z
UID:6655-1794614400-1794700799@www.owk-umstadt.de
SUMMARY:Familienaktion
DESCRIPTION:
URL:https://www.owk-umstadt.de/event/familienaktion/
LOCATION:Treffpunkt wird noch bekannt gegeben
CATEGORIES:Ganztageswanderung
END:VEVENT
BEGIN:VEVENT
DTSTART;TZID=Europe/Berlin:20261122T130000
DTEND;TZID=Europe/Berlin:20261122T200000
DTSTAMP:20260422T124357
CREATED:20251223T211156Z
LAST-MODIFIED:20251223T211156Z
UID:6722-1795352400-1795377600@www.owk-umstadt.de
SUMMARY:Auf den Spuren der Wambolts
DESCRIPTION:
URL:https://www.owk-umstadt.de/event/auf-den-spuren-der-wambolts/
LOCATION:Treffpunkt wird noch bekannt gegeben
CATEGORIES:Halbtageswanderung
END:VEVENT
BEGIN:VEVENT
DTSTART;TZID=Europe/Berlin:20261125T153000
DTEND;TZID=Europe/Berlin:20261125T170000
DTSTAMP:20260422T124357
CREATED:20251201T204109Z
LAST-MODIFIED:20251201T204109Z
UID:6602-1795620600-1795626000@www.owk-umstadt.de
SUMMARY:Seniorencafé im Vereinsheim
DESCRIPTION:
URL:https://www.owk-umstadt.de/event/seniorencafe-im-vereinsheim-34/
LOCATION:OWK Vereinsheim Gruberhof\, Raibacher Tal 22\, Groß-Umstadt\, Hessen\, 64823\, Deutschland
CATEGORIES:Senioren
END:VEVENT
END:VCALENDAR