BEGIN:VCALENDAR
VERSION:2.0
PRODID:-//OWK Groß-Umstadt - ECPv6.15.17.1//NONSGML v1.0//EN
CALSCALE:GREGORIAN
METHOD:PUBLISH
X-ORIGINAL-URL:https://www.owk-umstadt.de
X-WR-CALDESC:Veranstaltungen für OWK Groß-Umstadt
REFRESH-INTERVAL;VALUE=DURATION:PT1H
X-Robots-Tag:noindex
X-PUBLISHED-TTL:PT1H
BEGIN:VTIMEZONE
TZID:Europe/Berlin
BEGIN:DAYLIGHT
TZOFFSETFROM:+0100
TZOFFSETTO:+0200
TZNAME:CEST
DTSTART:20250330T010000
END:DAYLIGHT
BEGIN:STANDARD
TZOFFSETFROM:+0200
TZOFFSETTO:+0100
TZNAME:CET
DTSTART:20251026T010000
END:STANDARD
BEGIN:DAYLIGHT
TZOFFSETFROM:+0100
TZOFFSETTO:+0200
TZNAME:CEST
DTSTART:20260329T010000
END:DAYLIGHT
BEGIN:STANDARD
TZOFFSETFROM:+0200
TZOFFSETTO:+0100
TZNAME:CET
DTSTART:20261025T010000
END:STANDARD
BEGIN:DAYLIGHT
TZOFFSETFROM:+0100
TZOFFSETTO:+0200
TZNAME:CEST
DTSTART:20270328T010000
END:DAYLIGHT
BEGIN:STANDARD
TZOFFSETFROM:+0200
TZOFFSETTO:+0100
TZNAME:CET
DTSTART:20271031T010000
END:STANDARD
END:VTIMEZONE
BEGIN:VEVENT
DTSTART;VALUE=DATE:20260831
DTEND;VALUE=DATE:20260908
DTSTAMP:20260422T094841
CREATED:20251201T204717Z
LAST-MODIFIED:20251201T204717Z
UID:6643-1788134400-1788825599@www.owk-umstadt.de
SUMMARY:Frankreichfahrt
DESCRIPTION:
URL:https://www.owk-umstadt.de/event/frankreichfahrt/
LOCATION:Treffpunkt wird noch bekannt gegeben
CATEGORIES:mehrtägige Wanderung
ORGANIZER;CN="Simone Jost":MAILTO:s.jost@owk-umstadt.de
END:VEVENT
BEGIN:VEVENT
DTSTART;TZID=Europe/Berlin:20260912T160000
DTEND;TZID=Europe/Berlin:20260912T203000
DTSTAMP:20260422T094841
CREATED:20251201T204718Z
LAST-MODIFIED:20251230T204615Z
UID:6644-1789228800-1789245000@www.owk-umstadt.de
SUMMARY:Große Weinprobe zum Winzerfest
DESCRIPTION:
URL:https://www.owk-umstadt.de/event/grosse-weinprobe-zum-winzerfest-3/
LOCATION:Stadthalle Groß-Umstadt\, Am Darmstädter Schloss 6\, Groß-Umstadt\, Hessen\, 64823
CATEGORIES:Veranstaltung
ORGANIZER;CN="Jugend":MAILTO:jugend@owk-umstadt.de
END:VEVENT
BEGIN:VEVENT
DTSTART;TZID=Europe/Berlin:20260915T170000
DTEND;TZID=Europe/Berlin:20260915T210000
DTSTAMP:20260422T094841
CREATED:20251201T204718Z
LAST-MODIFIED:20251201T204718Z
UID:6645-1789491600-1789506000@www.owk-umstadt.de
SUMMARY:Nach’m schaffe dabbe
DESCRIPTION:
URL:https://www.owk-umstadt.de/event/nachm-schaffe-dabbe-3/
LOCATION:Treffpunkt wird noch bekannt gegeben
CATEGORIES:Veranstaltung
ORGANIZER;CN="Vorstand":MAILTO:vorstand@owk-umstadt.de
END:VEVENT
BEGIN:VEVENT
DTSTART;VALUE=DATE:20260916
DTEND;VALUE=DATE:20260917
DTSTAMP:20260422T094841
CREATED:20251201T204127Z
LAST-MODIFIED:20251201T204127Z
UID:6611-1789516800-1789603199@www.owk-umstadt.de
SUMMARY:Seniorenwanderung
DESCRIPTION:
URL:https://www.owk-umstadt.de/event/seniorenwanderung-35/
CATEGORIES:Ganztageswanderung,Senioren
END:VEVENT
BEGIN:VEVENT
DTSTART;VALUE=DATE:20260918
DTEND;VALUE=DATE:20260922
DTSTAMP:20260422T094841
CREATED:20251201T204720Z
LAST-MODIFIED:20251201T204720Z
UID:6646-1789689600-1790035199@www.owk-umstadt.de
SUMMARY:Winzerfest
DESCRIPTION:
URL:https://www.owk-umstadt.de/event/winzerfest-3/
CATEGORIES:Veranstaltung
ORGANIZER;CN="Jugend":MAILTO:jugend@owk-umstadt.de
END:VEVENT
BEGIN:VEVENT
DTSTART;TZID=Europe/Berlin:20260927T090000
DTEND;TZID=Europe/Berlin:20260927T190000
DTSTAMP:20260422T094841
CREATED:20251201T204730Z
LAST-MODIFIED:20251201T204730Z
UID:6647-1790499600-1790535600@www.owk-umstadt.de
SUMMARY:Auf zur Hischbrunft
DESCRIPTION:
URL:https://www.owk-umstadt.de/event/auf-zur-hischbrunft/
LOCATION:Treffpunkt wird noch bekannt gegeben
CATEGORIES:Ganztageswanderung
END:VEVENT
BEGIN:VEVENT
DTSTART;TZID=Europe/Berlin:20260930T170000
DTEND;TZID=Europe/Berlin:20260930T183000
DTSTAMP:20260422T094841
CREATED:20251201T204055Z
LAST-MODIFIED:20251201T204055Z
UID:6600-1790787600-1790793000@www.owk-umstadt.de
SUMMARY:Seniorencafé im Vereinsheim
DESCRIPTION:
URL:https://www.owk-umstadt.de/event/seniorencafe-im-vereinsheim-32/
LOCATION:OWK Vereinsheim Gruberhof\, Raibacher Tal 22\, Groß-Umstadt\, Hessen\, 64823\, Deutschland
CATEGORIES:Senioren
END:VEVENT
END:VCALENDAR