BEGIN:VCALENDAR
VERSION:2.0
PRODID:-//OWK Groß-Umstadt - ECPv6.15.17.1//NONSGML v1.0//EN
CALSCALE:GREGORIAN
METHOD:PUBLISH
X-ORIGINAL-URL:https://www.owk-umstadt.de
X-WR-CALDESC:Veranstaltungen für OWK Groß-Umstadt
REFRESH-INTERVAL;VALUE=DURATION:PT1H
X-Robots-Tag:noindex
X-PUBLISHED-TTL:PT1H
BEGIN:VTIMEZONE
TZID:Europe/Berlin
BEGIN:DAYLIGHT
TZOFFSETFROM:+0100
TZOFFSETTO:+0200
TZNAME:CEST
DTSTART:20250330T010000
END:DAYLIGHT
BEGIN:STANDARD
TZOFFSETFROM:+0200
TZOFFSETTO:+0100
TZNAME:CET
DTSTART:20251026T010000
END:STANDARD
BEGIN:DAYLIGHT
TZOFFSETFROM:+0100
TZOFFSETTO:+0200
TZNAME:CEST
DTSTART:20260329T010000
END:DAYLIGHT
BEGIN:STANDARD
TZOFFSETFROM:+0200
TZOFFSETTO:+0100
TZNAME:CET
DTSTART:20261025T010000
END:STANDARD
BEGIN:DAYLIGHT
TZOFFSETFROM:+0100
TZOFFSETTO:+0200
TZNAME:CEST
DTSTART:20270328T010000
END:DAYLIGHT
BEGIN:STANDARD
TZOFFSETFROM:+0200
TZOFFSETTO:+0100
TZNAME:CET
DTSTART:20271031T010000
END:STANDARD
END:VTIMEZONE
BEGIN:VEVENT
DTSTART;TZID=Europe/Berlin:20260620T180000
DTEND;TZID=Europe/Berlin:20260620T220000
DTSTAMP:20260420T024128
CREATED:20260322T121326Z
LAST-MODIFIED:20260322T124713Z
UID:6910-1781978400-1781992800@www.owk-umstadt.de
SUMMARY:Weinprobe durch die 13 deutschen Weinanbaugebiete
DESCRIPTION:Erlebe einen Abend voller Genuss und Geselligkeit auf der Odenwälder Weininsel! Die OWK Jugend und die Jugendabteilung der Verschwisterung laden Dich gemeinsam zu einer exklusiven Entdeckungsreise ein. Wir verkosten Weine aus allen 13 deutschen Anbaugebieten und schaffen so einen Ort der Begegnung für alle Generationen und Interessen. \nIn der urigen Atmosphäre des OWK Vereinsheims am Gruberhof erwartet Dich eine geführte Weinprobe\, bei der die Vielfalt unserer heimischen Reblandschaften im Mittelpunkt steht. Um den Abend kulinarisch abzurunden\, servieren wir eine feine Auswahl an herzhaften Weinbegleitern in vier Gängen. Ob Du Weinkenner bist oder einfach einen schönen Abend in guter Gesellschaft verbringen möchtest – wir freuen uns auf Dein Kommen! \nSichere Dir Dein Ticket im Vorverkauf und lass uns gemeinsam auf die gute Nachbarschaft und die Vielfalt in unserer Stadt anstoßen. \nEckdaten: \nTermin: 20.06.2026\, Einlass ab 17:00 Uhr\, Beginn 18:00 Uhr\nOrt: OWK Vereinsheim am Gruberhof\, Raibacher Tal 22\, Groß-Umstadt\nEintritt: 55\,– € (inkl. Wein & 4-Gang-Menü) | Driver Card: 25\,– €\nVorverkauf: Annies Blumenlädchen\, Eisen Schulz\, Vinum Autmundis
URL:https://www.owk-umstadt.de/event/weinprobe-durch-die-13-deutschen-weinanbaugebiete/
LOCATION:OWK Vereinsheim Gruberhof\, Raibacher Tal 22\, Groß-Umstadt\, Hessen\, 64823\, Deutschland
CATEGORIES:Jugend,Veranstaltung
ORGANIZER;CN="Jugend":MAILTO:jugend@owk-umstadt.de
END:VEVENT
END:VCALENDAR