BEGIN:VCALENDAR
VERSION:2.0
PRODID:-//OWK Groß-Umstadt - ECPv6.15.17.1//NONSGML v1.0//EN
CALSCALE:GREGORIAN
METHOD:PUBLISH
X-WR-CALNAME:OWK Groß-Umstadt
X-ORIGINAL-URL:https://www.owk-umstadt.de
X-WR-CALDESC:Veranstaltungen für OWK Groß-Umstadt
REFRESH-INTERVAL;VALUE=DURATION:PT1H
X-Robots-Tag:noindex
X-PUBLISHED-TTL:PT1H
BEGIN:VTIMEZONE
TZID:Europe/Berlin
BEGIN:DAYLIGHT
TZOFFSETFROM:+0100
TZOFFSETTO:+0200
TZNAME:CEST
DTSTART:20240331T010000
END:DAYLIGHT
BEGIN:STANDARD
TZOFFSETFROM:+0200
TZOFFSETTO:+0100
TZNAME:CET
DTSTART:20241027T010000
END:STANDARD
BEGIN:DAYLIGHT
TZOFFSETFROM:+0100
TZOFFSETTO:+0200
TZNAME:CEST
DTSTART:20250330T010000
END:DAYLIGHT
BEGIN:STANDARD
TZOFFSETFROM:+0200
TZOFFSETTO:+0100
TZNAME:CET
DTSTART:20251026T010000
END:STANDARD
BEGIN:DAYLIGHT
TZOFFSETFROM:+0100
TZOFFSETTO:+0200
TZNAME:CEST
DTSTART:20260329T010000
END:DAYLIGHT
BEGIN:STANDARD
TZOFFSETFROM:+0200
TZOFFSETTO:+0100
TZNAME:CET
DTSTART:20261025T010000
END:STANDARD
END:VTIMEZONE
BEGIN:VEVENT
DTSTART;TZID=Europe/Berlin:20250207T190000
DTEND;TZID=Europe/Berlin:20250207T235900
DTSTAMP:20260421T160442
CREATED:20241020T195353Z
LAST-MODIFIED:20241230T131537Z
UID:5407-1738954800-1738972740@www.owk-umstadt.de
SUMMARY:Vollversammlung der DWJ im OWK Groß-Umstadt
DESCRIPTION:Details zu Einladung und Tagesordnung siehe Vollversammlung Jugend
URL:https://www.owk-umstadt.de/event/vollversammlung-der-dwj-im-owk-gross-umstadt/
LOCATION:Umstädter Brauhaus\, Zimmerstraße 28\, Groß-Umstadt\, Hessen\, 64823\, Germany
CATEGORIES:Jugend,Veranstaltung
ORGANIZER;CN="Jugend":MAILTO:jugend@owk-umstadt.de
END:VEVENT
END:VCALENDAR