BEGIN:VCALENDAR
VERSION:2.0
PRODID:-//OWK Groß-Umstadt - ECPv6.15.17.1//NONSGML v1.0//EN
CALSCALE:GREGORIAN
METHOD:PUBLISH
X-WR-CALNAME:OWK Groß-Umstadt
X-ORIGINAL-URL:https://www.owk-umstadt.de
X-WR-CALDESC:Veranstaltungen für OWK Groß-Umstadt
REFRESH-INTERVAL;VALUE=DURATION:PT1H
X-Robots-Tag:noindex
X-PUBLISHED-TTL:PT1H
BEGIN:VTIMEZONE
TZID:Europe/Berlin
BEGIN:DAYLIGHT
TZOFFSETFROM:+0100
TZOFFSETTO:+0200
TZNAME:CEST
DTSTART:20220327T010000
END:DAYLIGHT
BEGIN:STANDARD
TZOFFSETFROM:+0200
TZOFFSETTO:+0100
TZNAME:CET
DTSTART:20221030T010000
END:STANDARD
BEGIN:DAYLIGHT
TZOFFSETFROM:+0100
TZOFFSETTO:+0200
TZNAME:CEST
DTSTART:20230326T010000
END:DAYLIGHT
BEGIN:STANDARD
TZOFFSETFROM:+0200
TZOFFSETTO:+0100
TZNAME:CET
DTSTART:20231029T010000
END:STANDARD
BEGIN:DAYLIGHT
TZOFFSETFROM:+0100
TZOFFSETTO:+0200
TZNAME:CEST
DTSTART:20240331T010000
END:DAYLIGHT
BEGIN:STANDARD
TZOFFSETFROM:+0200
TZOFFSETTO:+0100
TZNAME:CET
DTSTART:20241027T010000
END:STANDARD
END:VTIMEZONE
BEGIN:VEVENT
DTSTART;TZID=Europe/Berlin:20231125T180000
DTEND;TZID=Europe/Berlin:20231125T223000
DTSTAMP:20260422T180641
CREATED:20231029T193950Z
LAST-MODIFIED:20231029T194353Z
UID:3937-1700935200-1700951400@www.owk-umstadt.de
SUMMARY:Filmabend und Brauchtumsessen beim OWK
DESCRIPTION:Details siehe hier
URL:https://www.owk-umstadt.de/event/filmabend-und-brauchtumsessen-beim-owk/
LOCATION:OWK Vereinsheim Gruberhof\, Raibacher Tal 22\, Groß-Umstadt\, Hessen\, 64823\, Deutschland
CATEGORIES:Veranstaltung
END:VEVENT
END:VCALENDAR